BEGIN:VCALENDAR
VERSION:2.0
PRODID:-//Goldgrube//myauktion.com//AT
CALSCALE:GREGORIAN
BEGIN:VEVENT
DTSTART:20260505T153200
DTEND:20260505T153230
LOCATION:Gewerbepark 13, 8562 Mooskirchen
DTSTAMP:20260422T003430
SUMMARY:MyAuktion: Ablauf Artikel Nr. 964019 Coin Collection Book
URL;VALUE=URI:https://www.myauktion.com/versteigerung7653-position2443675-coin-collection-book.php
DESCRIPTION:Beschädigt
UID:myauktion-7653-2443675
BEGIN:VALARM
ACTION:DISPLAY
DESCRIPTION:Beschädigt
TRIGGER:-PT10M
END:VALARM
END:VEVENT
END:VCALENDAR