BEGIN:VCALENDAR
VERSION:2.0
PRODID:-//Goldgrube//myauktion.com//AT
CALSCALE:GREGORIAN
BEGIN:VEVENT
DTSTART:20260505T153600
DTEND:20260505T153630
LOCATION:Gewerbepark 13, 8562 Mooskirchen
DTSTAMP:20260421T225109
SUMMARY:MyAuktion: Ablauf Artikel Nr. 964027 Schutzhelm mit klappbarem Visier
URL;VALUE=URI:https://www.myauktion.com/versteigerung7653-position2443679-schutzhelm-mit-klappbarem-visier.php
DESCRIPTION:Größe nicht ersichtlich
UID:myauktion-7653-2443679
BEGIN:VALARM
ACTION:DISPLAY
DESCRIPTION:Größe nicht ersichtlich
TRIGGER:-PT10M
END:VALARM
END:VEVENT
END:VCALENDAR