BEGIN:VCALENDAR
VERSION:2.0
PRODID:-//Goldgrube//myauktion.com//AT
CALSCALE:GREGORIAN
BEGIN:VEVENT
DTSTART:20260505T154000
DTEND:20260505T154030
LOCATION:Gewerbepark 13, 8562 Mooskirchen
DTSTAMP:20260421T225110
SUMMARY:MyAuktion: Ablauf Artikel Nr. 964034 Office Depot Trennblätter 100Stk gelb
URL;VALUE=URI:https://www.myauktion.com/versteigerung7653-position2443683-office-depot-trennblaetter-100stk-gelb.php
DESCRIPTION:
UID:myauktion-7653-2443683
BEGIN:VALARM
ACTION:DISPLAY
DESCRIPTION:
TRIGGER:-PT10M
END:VALARM
END:VEVENT
END:VCALENDAR