BEGIN:VCALENDAR
VERSION:2.0
PRODID:-//Goldgrube//myauktion.com//AT
CALSCALE:GREGORIAN
BEGIN:VEVENT
DTSTART:20260505T154100
DTEND:20260505T154130
LOCATION:Gewerbepark 13, 8562 Mooskirchen
DTSTAMP:20260421T225104
SUMMARY:MyAuktion: Ablauf Artikel Nr. 964036 Activity Spiel OeNB Finanzbildung
URL;VALUE=URI:https://www.myauktion.com/versteigerung7653-position2443684-activity-spiel-oenb-finanzbildung.php
DESCRIPTION:
UID:myauktion-7653-2443684
BEGIN:VALARM
ACTION:DISPLAY
DESCRIPTION:
TRIGGER:-PT10M
END:VALARM
END:VEVENT
END:VCALENDAR