BEGIN:VCALENDAR
VERSION:2.0
PRODID:-//Goldgrube//myauktion.com//AT
CALSCALE:GREGORIAN
BEGIN:VEVENT
DTSTART:20260505T154200
DTEND:20260505T154230
LOCATION:Gewerbepark 13, 8562 Mooskirchen
DTSTAMP:20260421T225110
SUMMARY:MyAuktion: Ablauf Artikel Nr. 964041 FRANKBERG Fahrwerksteile Querlenkersatz R042521499
URL;VALUE=URI:https://www.myauktion.com/versteigerung7653-position2443685-frankberg-fahrwerksteile-querlenkersatz-r042521499.php
DESCRIPTION:
UID:myauktion-7653-2443685
BEGIN:VALARM
ACTION:DISPLAY
DESCRIPTION:
TRIGGER:-PT10M
END:VALARM
END:VEVENT
END:VCALENDAR