BEGIN:VCALENDAR
VERSION:2.0
PRODID:-//Goldgrube//myauktion.com//AT
CALSCALE:GREGORIAN
BEGIN:VEVENT
DTSTART:20260505T154500
DTEND:20260505T154530
LOCATION:Gewerbepark 13, 8562 Mooskirchen
DTSTAMP:20260421T225054
SUMMARY:MyAuktion: Ablauf Artikel Nr. 964048 Anna Field Sandalen
URL;VALUE=URI:https://www.myauktion.com/versteigerung7653-position2443688-anna-field-sandalen.php
DESCRIPTION:Gr. 38
UID:myauktion-7653-2443688
BEGIN:VALARM
ACTION:DISPLAY
DESCRIPTION:Gr. 38
TRIGGER:-PT10M
END:VALARM
END:VEVENT
END:VCALENDAR