BEGIN:VCALENDAR
VERSION:2.0
PRODID:-//Goldgrube//myauktion.com//AT
CALSCALE:GREGORIAN
BEGIN:VEVENT
DTSTART:20260505T145300
DTEND:20260505T145330
LOCATION:Gewerbepark 13, 8562 Mooskirchen
DTSTAMP:20260421T225050
SUMMARY:MyAuktion: Ablauf Artikel Nr. 963837 Rowenta Hygiene + Staubsaugerbeutel 4.5 L x4
URL;VALUE=URI:https://www.myauktion.com/versteigerung7653-position2443691-rowenta-hygiene-staubsaugerbeutel-45-l-x4.php
DESCRIPTION:
UID:myauktion-7653-2443691
BEGIN:VALARM
ACTION:DISPLAY
DESCRIPTION:
TRIGGER:-PT10M
END:VALARM
END:VEVENT
END:VCALENDAR