BEGIN:VCALENDAR
VERSION:2.0
PRODID:-//Goldgrube//myauktion.com//AT
CALSCALE:GREGORIAN
BEGIN:VEVENT
DTSTART:20260505T151000
DTEND:20260505T151030
LOCATION:Gewerbepark 13, 8562 Mooskirchen
DTSTAMP:20260421T203906
SUMMARY:MyAuktion: Ablauf Artikel Nr. 963962 ORTHOBACK Vibrastone Gua-Stoßwellen-Massage
URL;VALUE=URI:https://www.myauktion.com/versteigerung7653-position2443692-orthoback-vibrastone-gua-stosswellen-massage.php
DESCRIPTION:
UID:myauktion-7653-2443692
BEGIN:VALARM
ACTION:DISPLAY
DESCRIPTION:
TRIGGER:-PT10M
END:VALARM
END:VEVENT
END:VCALENDAR