BEGIN:VCALENDAR
VERSION:2.0
PRODID:-//Goldgrube//myauktion.com//AT
CALSCALE:GREGORIAN
BEGIN:VEVENT
DTSTART:20260505T102700
DTEND:20260505T102730
LOCATION:Gewerbepark 13, 8562 Mooskirchen
DTSTAMP:20260422T003430
SUMMARY:MyAuktion: Ablauf Artikel Nr. 920300 Uhr 
URL;VALUE=URI:https://www.myauktion.com/versteigerung7654-position2443695-uhr.php
DESCRIPTION:Für Bastler - defekt 
UID:myauktion-7654-2443695
BEGIN:VALARM
ACTION:DISPLAY
DESCRIPTION:Für Bastler - defekt 
TRIGGER:-PT10M
END:VALARM
END:VEVENT
END:VCALENDAR