BEGIN:VCALENDAR
VERSION:2.0
PRODID:-//Goldgrube//myauktion.com//AT
CALSCALE:GREGORIAN
BEGIN:VEVENT
DTSTART:20260505T102800
DTEND:20260505T102830
LOCATION:Gewerbepark 13, 8562 Mooskirchen
DTSTAMP:20260421T225103
SUMMARY:MyAuktion: Ablauf Artikel Nr. 920311 Tommy Hilfiger Cork Zehentrenner 
URL;VALUE=URI:https://www.myauktion.com/versteigerung7654-position2443696-tommy-hilfiger-cork-zehentrenner.php
DESCRIPTION:Gr. 40 (2 verschiedene Motive) 
UID:myauktion-7654-2443696
BEGIN:VALARM
ACTION:DISPLAY
DESCRIPTION:Gr. 40 (2 verschiedene Motive) 
TRIGGER:-PT10M
END:VALARM
END:VEVENT
END:VCALENDAR