BEGIN:VCALENDAR
VERSION:2.0
PRODID:-//Goldgrube//myauktion.com//AT
CALSCALE:GREGORIAN
BEGIN:VEVENT
DTSTART:20260505T103900
DTEND:20260505T103930
LOCATION:Gewerbepark 13, 8562 Mooskirchen
DTSTAMP:20260421T214048
SUMMARY:MyAuktion: Ablauf Artikel Nr. 920341 Car Multimedia System RCD210 MP3 
URL;VALUE=URI:https://www.myauktion.com/versteigerung7654-position2443714-car-multimedia-system-rcd210-mp3.php
DESCRIPTION:
UID:myauktion-7654-2443714
BEGIN:VALARM
ACTION:DISPLAY
DESCRIPTION:
TRIGGER:-PT10M
END:VALARM
END:VEVENT
END:VCALENDAR