BEGIN:VCALENDAR
VERSION:2.0
PRODID:-//Goldgrube//myauktion.com//AT
CALSCALE:GREGORIAN
BEGIN:VEVENT
DTSTART:20260505T092200
DTEND:20260505T092230
LOCATION:Gewerbepark 13, 8562 Mooskirchen
DTSTAMP:20260421T225103
SUMMARY:MyAuktion: Ablauf Artikel Nr. 904155 Filmmaterial Fahrradträger Carry-Bike 
URL;VALUE=URI:https://www.myauktion.com/versteigerung7654-position2443715-filmmaterial-fahrradtraeger-carry-bike.php
DESCRIPTION:Vollständigkeit nicht geprüft.
UID:myauktion-7654-2443715
BEGIN:VALARM
ACTION:DISPLAY
DESCRIPTION:Vollständigkeit nicht geprüft.
TRIGGER:-PT10M
END:VALARM
END:VEVENT
END:VCALENDAR