BEGIN:VCALENDAR
VERSION:2.0
PRODID:-//Goldgrube//myauktion.com//AT
CALSCALE:GREGORIAN
BEGIN:VEVENT
DTSTART:20260505T104100
DTEND:20260505T104130
LOCATION:Gewerbepark 13, 8562 Mooskirchen
DTSTAMP:20260421T225058
SUMMARY:MyAuktion: Ablauf Artikel Nr. 920354 Kiwifotos KCB-14X18650 Battery Case 
URL;VALUE=URI:https://www.myauktion.com/versteigerung7654-position2443717-kiwifotos-kcb-14x18650-battery-case.php
DESCRIPTION:
UID:myauktion-7654-2443717
BEGIN:VALARM
ACTION:DISPLAY
DESCRIPTION:
TRIGGER:-PT10M
END:VALARM
END:VEVENT
END:VCALENDAR