BEGIN:VCALENDAR
VERSION:2.0
PRODID:-//Goldgrube//myauktion.com//AT
CALSCALE:GREGORIAN
BEGIN:VEVENT
DTSTART:20260505T104300
DTEND:20260505T104330
LOCATION:Gewerbepark 13, 8562 Mooskirchen
DTSTAMP:20260421T225100
SUMMARY:MyAuktion: Ablauf Artikel Nr. 920360 Car Puddle Lights car door light 
URL;VALUE=URI:https://www.myauktion.com/versteigerung7654-position2443719-car-puddle-lights-car-door-light.php
DESCRIPTION:Keine weiteren Daten ersichtlich 
UID:myauktion-7654-2443719
BEGIN:VALARM
ACTION:DISPLAY
DESCRIPTION:Keine weiteren Daten ersichtlich 
TRIGGER:-PT10M
END:VALARM
END:VEVENT
END:VCALENDAR