BEGIN:VCALENDAR
VERSION:2.0
PRODID:-//Goldgrube//myauktion.com//AT
CALSCALE:GREGORIAN
BEGIN:VEVENT
DTSTART:20260505T104600
DTEND:20260505T104630
LOCATION:Gewerbepark 13, 8562 Mooskirchen
DTSTAMP:20260421T225108
SUMMARY:MyAuktion: Ablauf Artikel Nr. 920367 Rogz Katzen Halsband small 20cm - 31cm 
URL;VALUE=URI:https://www.myauktion.com/versteigerung7654-position2443722-rogz-katzen-halsband-small-20cm-31cm.php
DESCRIPTION:
UID:myauktion-7654-2443722
BEGIN:VALARM
ACTION:DISPLAY
DESCRIPTION:
TRIGGER:-PT10M
END:VALARM
END:VEVENT
END:VCALENDAR