BEGIN:VCALENDAR
VERSION:2.0
PRODID:-//Goldgrube//myauktion.com//AT
CALSCALE:GREGORIAN
BEGIN:VEVENT
DTSTART:20260505T102200
DTEND:20260505T102230
LOCATION:Gewerbepark 13, 8562 Mooskirchen
DTSTAMP:20260422T003429
SUMMARY:MyAuktion: Ablauf Artikel Nr. 917174 Umhängetasche 
URL;VALUE=URI:https://www.myauktion.com/versteigerung7654-position2443723-umhaengetasche.php
DESCRIPTION:Ca. 20x15cm 
UID:myauktion-7654-2443723
BEGIN:VALARM
ACTION:DISPLAY
DESCRIPTION:Ca. 20x15cm 
TRIGGER:-PT10M
END:VALARM
END:VEVENT
END:VCALENDAR