BEGIN:VCALENDAR
VERSION:2.0
PRODID:-//Goldgrube//myauktion.com//AT
CALSCALE:GREGORIAN
BEGIN:VEVENT
DTSTART:20260505T102300
DTEND:20260505T102330
LOCATION:Gewerbepark 13, 8562 Mooskirchen
DTSTAMP:20260421T225058
SUMMARY:MyAuktion: Ablauf Artikel Nr. 917177 RV Mounzing Jardeare Kit LSB01 
URL;VALUE=URI:https://www.myauktion.com/versteigerung7654-position2443725-rv-mounzing-jardeare-kit-lsb01.php
DESCRIPTION:Black 
UID:myauktion-7654-2443725
BEGIN:VALARM
ACTION:DISPLAY
DESCRIPTION:Black 
TRIGGER:-PT10M
END:VALARM
END:VEVENT
END:VCALENDAR