BEGIN:VCALENDAR
VERSION:2.0
PRODID:-//Goldgrube//myauktion.com//AT
CALSCALE:GREGORIAN
BEGIN:VEVENT
DTSTART:20260505T102400
DTEND:20260505T102430
LOCATION:Gewerbepark 13, 8562 Mooskirchen
DTSTAMP:20260422T003428
SUMMARY:MyAuktion: Ablauf Artikel Nr. 917182 Eglo  Lampe 
URL;VALUE=URI:https://www.myauktion.com/versteigerung7654-position2443726-eglo-lampe.php
DESCRIPTION:Unvollständig  eine Glas ist kaputt.
UID:myauktion-7654-2443726
BEGIN:VALARM
ACTION:DISPLAY
DESCRIPTION:Unvollständig  eine Glas ist kaputt.
TRIGGER:-PT10M
END:VALARM
END:VEVENT
END:VCALENDAR