BEGIN:VCALENDAR
VERSION:2.0
PRODID:-//Goldgrube//myauktion.com//AT
CALSCALE:GREGORIAN
BEGIN:VEVENT
DTSTART:20260505T104800
DTEND:20260505T104830
LOCATION:Gewerbepark 13, 8562 Mooskirchen
DTSTAMP:20260421T225059
SUMMARY:MyAuktion: Ablauf Artikel Nr. 920894 Auto Extreme Professional Petrol Esstant Lacquer 400ml
URL;VALUE=URI:https://www.myauktion.com/versteigerung7654-position2443727-auto-extreme-professional-petrol-esstant-lacquer-400ml.php
DESCRIPTION:Beschädigt 
UID:myauktion-7654-2443727
BEGIN:VALARM
ACTION:DISPLAY
DESCRIPTION:Beschädigt 
TRIGGER:-PT10M
END:VALARM
END:VEVENT
END:VCALENDAR