BEGIN:VCALENDAR
VERSION:2.0
PRODID:-//Goldgrube//myauktion.com//AT
CALSCALE:GREGORIAN
BEGIN:VEVENT
DTSTART:20260505T100400
DTEND:20260505T100430
LOCATION:Gewerbepark 13, 8562 Mooskirchen
DTSTAMP:20260422T060751
SUMMARY:MyAuktion: Ablauf Artikel Nr. 916131 Wovar  High Tack Kit White 290ml
URL;VALUE=URI:https://www.myauktion.com/versteigerung7654-position2443728-wovar-high-tack-kit-white-290ml.php
DESCRIPTION:
UID:myauktion-7654-2443728
BEGIN:VALARM
ACTION:DISPLAY
DESCRIPTION:
TRIGGER:-PT10M
END:VALARM
END:VEVENT
END:VCALENDAR