BEGIN:VCALENDAR
VERSION:2.0
PRODID:-//Goldgrube//myauktion.com//AT
CALSCALE:GREGORIAN
BEGIN:VEVENT
DTSTART:20260505T090200
DTEND:20260505T090230
LOCATION:Gewerbepark 13, 8562 Mooskirchen
DTSTAMP:20260421T202151
SUMMARY:MyAuktion: Ablauf Artikel Nr. 903528 Josef Seibel Sanja20 Stiefeletten 
URL;VALUE=URI:https://www.myauktion.com/versteigerung7654-position2443734-josef-seibel-sanja20-stiefeletten.php
DESCRIPTION:Gr. 37 
UID:myauktion-7654-2443734
BEGIN:VALARM
ACTION:DISPLAY
DESCRIPTION:Gr. 37 
TRIGGER:-PT10M
END:VALARM
END:VEVENT
END:VCALENDAR