BEGIN:VCALENDAR
VERSION:2.0
PRODID:-//Goldgrube//myauktion.com//AT
CALSCALE:GREGORIAN
BEGIN:VEVENT
DTSTART:20260505T090300
DTEND:20260505T090330
LOCATION:Gewerbepark 13, 8562 Mooskirchen
DTSTAMP:20260421T202151
SUMMARY:MyAuktion: Ablauf Artikel Nr. 903532 Emily & Noah Tasche ca. 17x18cm 
URL;VALUE=URI:https://www.myauktion.com/versteigerung7654-position2443735-emily-38-noah-tasche-ca-17x18cm.php
DESCRIPTION:
UID:myauktion-7654-2443735
BEGIN:VALARM
ACTION:DISPLAY
DESCRIPTION:
TRIGGER:-PT10M
END:VALARM
END:VEVENT
END:VCALENDAR