BEGIN:VCALENDAR
VERSION:2.0
PRODID:-//Goldgrube//myauktion.com//AT
CALSCALE:GREGORIAN
BEGIN:VEVENT
DTSTART:20260505T090400
DTEND:20260505T090430
LOCATION:Gewerbepark 13, 8562 Mooskirchen
DTSTAMP:20260421T202151
SUMMARY:MyAuktion: Ablauf Artikel Nr. 903537 Josef Seibel Helen51 
URL;VALUE=URI:https://www.myauktion.com/versteigerung7654-position2443736-josef-seibel-helen51.php
DESCRIPTION:Gr. 40 
UID:myauktion-7654-2443736
BEGIN:VALARM
ACTION:DISPLAY
DESCRIPTION:Gr. 40 
TRIGGER:-PT10M
END:VALARM
END:VEVENT
END:VCALENDAR