BEGIN:VCALENDAR
VERSION:2.0
PRODID:-//Goldgrube//myauktion.com//AT
CALSCALE:GREGORIAN
BEGIN:VEVENT
DTSTART:20260505T090900
DTEND:20260505T090930
LOCATION:Gewerbepark 13, 8562 Mooskirchen
DTSTAMP:20260421T225104
SUMMARY:MyAuktion: Ablauf Artikel Nr. 903860 SHX Heizlüfter mit Keramikheizelement SHX23PTC100
URL;VALUE=URI:https://www.myauktion.com/versteigerung7654-position2443737-shx-heizluefter-mit-keramikheizelement-shx23ptc100.php
DESCRIPTION:Verpackung leicht beschädigt, Gebraucht, Funktion nicht getestet 
UID:myauktion-7654-2443737
BEGIN:VALARM
ACTION:DISPLAY
DESCRIPTION:Verpackung leicht beschädigt, Gebraucht, Funktion nicht getestet 
TRIGGER:-PT10M
END:VALARM
END:VEVENT
END:VCALENDAR