BEGIN:VCALENDAR
VERSION:2.0
PRODID:-//Goldgrube//myauktion.com//AT
CALSCALE:GREGORIAN
BEGIN:VEVENT
DTSTART:20260505T091000
DTEND:20260505T091030
LOCATION:Gewerbepark 13, 8562 Mooskirchen
DTSTAMP:20260421T202151
SUMMARY:MyAuktion: Ablauf Artikel Nr. 903868 Josef Seibel Avignon 307 85906 LA270200
URL;VALUE=URI:https://www.myauktion.com/versteigerung7654-position2443738-josef-seibel-avignon-307-85906-la270200.php
DESCRIPTION:Gr. 35
UID:myauktion-7654-2443738
BEGIN:VALARM
ACTION:DISPLAY
DESCRIPTION:Gr. 35
TRIGGER:-PT10M
END:VALARM
END:VEVENT
END:VCALENDAR