BEGIN:VCALENDAR
VERSION:2.0
PRODID:-//Goldgrube//myauktion.com//AT
CALSCALE:GREGORIAN
BEGIN:VEVENT
DTSTART:20260505T091100
DTEND:20260505T091130
LOCATION:Gewerbepark 13, 8562 Mooskirchen
DTSTAMP:20260421T202151
SUMMARY:MyAuktion: Ablauf Artikel Nr. 903869 Josef Seibel Avignon 306 85907LA270420
URL;VALUE=URI:https://www.myauktion.com/versteigerung7654-position2443739-josef-seibel-avignon-306-85907la270420.php
DESCRIPTION:Gr. 35
UID:myauktion-7654-2443739
BEGIN:VALARM
ACTION:DISPLAY
DESCRIPTION:Gr. 35
TRIGGER:-PT10M
END:VALARM
END:VEVENT
END:VCALENDAR