BEGIN:VCALENDAR
VERSION:2.0
PRODID:-//Goldgrube//myauktion.com//AT
CALSCALE:GREGORIAN
BEGIN:VEVENT
DTSTART:20260505T091200
DTEND:20260505T091230
LOCATION:Gewerbepark 13, 8562 Mooskirchen
DTSTAMP:20260421T225109
SUMMARY:MyAuktion: Ablauf Artikel Nr. 903870 Josef Seibel Monaco D01 54701 TE888801
URL;VALUE=URI:https://www.myauktion.com/versteigerung7654-position2443740-josef-seibel-monaco-d01-54701-te888801.php
DESCRIPTION:Gr. 35
UID:myauktion-7654-2443740
BEGIN:VALARM
ACTION:DISPLAY
DESCRIPTION:Gr. 35
TRIGGER:-PT10M
END:VALARM
END:VEVENT
END:VCALENDAR