BEGIN:VCALENDAR
VERSION:2.0
PRODID:-//Goldgrube//myauktion.com//AT
CALSCALE:GREGORIAN
BEGIN:VEVENT
DTSTART:20260505T091300
DTEND:20260505T091330
LOCATION:Gewerbepark 13, 8562 Mooskirchen
DTSTAMP:20260421T202150
SUMMARY:MyAuktion: Ablauf Artikel Nr. 903875 Mepal Gefrierschrank Box ca 25x20cm
URL;VALUE=URI:https://www.myauktion.com/versteigerung7654-position2443742-mepal-gefrierschrank-box-ca-25x20cm.php
DESCRIPTION:Leicht beschädigt 
UID:myauktion-7654-2443742
BEGIN:VALARM
ACTION:DISPLAY
DESCRIPTION:Leicht beschädigt 
TRIGGER:-PT10M
END:VALARM
END:VEVENT
END:VCALENDAR