BEGIN:VCALENDAR
VERSION:2.0
PRODID:-//Goldgrube//myauktion.com//AT
CALSCALE:GREGORIAN
BEGIN:VEVENT
DTSTART:20260505T090500
DTEND:20260505T090530
LOCATION:Gewerbepark 13, 8562 Mooskirchen
DTSTAMP:20260421T202151
SUMMARY:MyAuktion: Ablauf Artikel Nr. 903581 Josef Seibel Kate17 bordeaux 
URL;VALUE=URI:https://www.myauktion.com/versteigerung7654-position2443743-josef-seibel-kate17-bordeaux.php
DESCRIPTION:Gr. 43 
UID:myauktion-7654-2443743
BEGIN:VALARM
ACTION:DISPLAY
DESCRIPTION:Gr. 43 
TRIGGER:-PT10M
END:VALARM
END:VEVENT
END:VCALENDAR