BEGIN:VCALENDAR
VERSION:2.0
PRODID:-//Goldgrube//myauktion.com//AT
CALSCALE:GREGORIAN
BEGIN:VEVENT
DTSTART:20260505T091400
DTEND:20260505T091430
LOCATION:Gewerbepark 13, 8562 Mooskirchen
DTSTAMP:20260421T225106
SUMMARY:MyAuktion: Ablauf Artikel Nr. 903896 Florella Flausch Flanell Kissenbezug 40x80cm
URL;VALUE=URI:https://www.myauktion.com/versteigerung7654-position2443746-florella-flausch-flanell-kissenbezug-40x80cm.php
DESCRIPTION:
UID:myauktion-7654-2443746
BEGIN:VALARM
ACTION:DISPLAY
DESCRIPTION:
TRIGGER:-PT10M
END:VALARM
END:VEVENT
END:VCALENDAR