BEGIN:VCALENDAR
VERSION:2.0
PRODID:-//Goldgrube//myauktion.com//AT
CALSCALE:GREGORIAN
BEGIN:VEVENT
DTSTART:20260505T105100
DTEND:20260505T105130
LOCATION:Gewerbepark 13, 8562 Mooskirchen
DTSTAMP:20260421T225052
SUMMARY:MyAuktion: Ablauf Artikel Nr. 950763 Drehplatte für Frischhaltefolie
URL;VALUE=URI:https://www.myauktion.com/versteigerung7654-position2443747-drehplatte-fuer-frischhaltefolie.php
DESCRIPTION:
UID:myauktion-7654-2443747
BEGIN:VALARM
ACTION:DISPLAY
DESCRIPTION:
TRIGGER:-PT10M
END:VALARM
END:VEVENT
END:VCALENDAR