BEGIN:VCALENDAR
VERSION:2.0
PRODID:-//Goldgrube//myauktion.com//AT
CALSCALE:GREGORIAN
BEGIN:VEVENT
DTSTART:20260505T105300
DTEND:20260505T105330
LOCATION:Gewerbepark 13, 8562 Mooskirchen
DTSTAMP:20260421T225100
SUMMARY:MyAuktion: Ablauf Artikel Nr. 951377 Wandhalterung mit Zubehör 1Stück 28cm×20cm
URL;VALUE=URI:https://www.myauktion.com/versteigerung7654-position2443749-wandhalterung-mit-zubehoer-1stueck-28cm20cm.php
DESCRIPTION:
UID:myauktion-7654-2443749
BEGIN:VALARM
ACTION:DISPLAY
DESCRIPTION:
TRIGGER:-PT10M
END:VALARM
END:VEVENT
END:VCALENDAR