BEGIN:VCALENDAR
VERSION:2.0
PRODID:-//Goldgrube//myauktion.com//AT
CALSCALE:GREGORIAN
BEGIN:VEVENT
DTSTART:20260505T105800
DTEND:20260505T105830
LOCATION:Gewerbepark 13, 8562 Mooskirchen
DTSTAMP:20260421T225058
SUMMARY:MyAuktion: Ablauf Artikel Nr. 951388 SKYREAT Joystick Holder für DJI Mini 3 Pro
URL;VALUE=URI:https://www.myauktion.com/versteigerung7654-position2443754-skyreat-joystick-holder-fuer-dji-mini-3-pro.php
DESCRIPTION:
UID:myauktion-7654-2443754
BEGIN:VALARM
ACTION:DISPLAY
DESCRIPTION:
TRIGGER:-PT10M
END:VALARM
END:VEVENT
END:VCALENDAR