BEGIN:VCALENDAR
VERSION:2.0
PRODID:-//Goldgrube//myauktion.com//AT
CALSCALE:GREGORIAN
BEGIN:VEVENT
DTSTART:20260505T110000
DTEND:20260505T110030
LOCATION:Gewerbepark 13, 8562 Mooskirchen
DTSTAMP:20260421T220001
SUMMARY:MyAuktion: Ablauf Artikel Nr. 951395 DEWALT 16GA Brads 20mm
URL;VALUE=URI:https://www.myauktion.com/versteigerung7654-position2443756-dewalt-16ga-brads-20mm.php
DESCRIPTION:Inhalt: 5000 Stück
UID:myauktion-7654-2443756
BEGIN:VALARM
ACTION:DISPLAY
DESCRIPTION:Inhalt: 5000 Stück
TRIGGER:-PT10M
END:VALARM
END:VEVENT
END:VCALENDAR