BEGIN:VCALENDAR
VERSION:2.0
PRODID:-//Goldgrube//myauktion.com//AT
CALSCALE:GREGORIAN
BEGIN:VEVENT
DTSTART:20260505T110100
DTEND:20260505T110130
LOCATION:Gewerbepark 13, 8562 Mooskirchen
DTSTAMP:20260421T202150
SUMMARY:MyAuktion: Ablauf Artikel Nr. 951402 HABERKORN Zylinderschrauben Verzinkt Schrauben M8x16
URL;VALUE=URI:https://www.myauktion.com/versteigerung7654-position2443757-haberkorn-zylinderschrauben-verzinkt-schrauben-m8x16.php
DESCRIPTION:
UID:myauktion-7654-2443757
BEGIN:VALARM
ACTION:DISPLAY
DESCRIPTION:
TRIGGER:-PT10M
END:VALARM
END:VEVENT
END:VCALENDAR