BEGIN:VCALENDAR
VERSION:2.0
PRODID:-//Goldgrube//myauktion.com//AT
CALSCALE:GREGORIAN
BEGIN:VEVENT
DTSTART:20260505T110300
DTEND:20260505T110330
LOCATION:Gewerbepark 13, 8562 Mooskirchen
DTSTAMP:20260421T203858
SUMMARY:MyAuktion: Ablauf Artikel Nr. 951419 Scharniere Set 5 Stück
URL;VALUE=URI:https://www.myauktion.com/versteigerung7654-position2443759-scharniere-set-5-stueck.php
DESCRIPTION:
UID:myauktion-7654-2443759
BEGIN:VALARM
ACTION:DISPLAY
DESCRIPTION:
TRIGGER:-PT10M
END:VALARM
END:VEVENT
END:VCALENDAR