BEGIN:VCALENDAR
VERSION:2.0
PRODID:-//Goldgrube//myauktion.com//AT
CALSCALE:GREGORIAN
BEGIN:VEVENT
DTSTART:20260505T110500
DTEND:20260505T110530
LOCATION:Gewerbepark 13, 8562 Mooskirchen
DTSTAMP:20260421T225055
SUMMARY:MyAuktion: Ablauf Artikel Nr. 951445 ER/ESX DING4998 430E Spannzangen collet ER25 Ø20 mm
URL;VALUE=URI:https://www.myauktion.com/versteigerung7654-position2443761-er-esx-ding4998-430e-spannzangen-collet-er25-20-mm.php
DESCRIPTION:
UID:myauktion-7654-2443761
BEGIN:VALARM
ACTION:DISPLAY
DESCRIPTION:
TRIGGER:-PT10M
END:VALARM
END:VEVENT
END:VCALENDAR