BEGIN:VCALENDAR
VERSION:2.0
PRODID:-//Goldgrube//myauktion.com//AT
CALSCALE:GREGORIAN
BEGIN:VEVENT
DTSTART:20260505T110600
DTEND:20260505T110630
LOCATION:Gewerbepark 13, 8562 Mooskirchen
DTSTAMP:20260421T214048
SUMMARY:MyAuktion: Ablauf Artikel Nr. 951452 HAHN Gasdruckfeder 400N ca 220mm
URL;VALUE=URI:https://www.myauktion.com/versteigerung7654-position2443762-hahn-gasdruckfeder-400n-ca-220mm.php
DESCRIPTION:
UID:myauktion-7654-2443762
BEGIN:VALARM
ACTION:DISPLAY
DESCRIPTION:
TRIGGER:-PT10M
END:VALARM
END:VEVENT
END:VCALENDAR