BEGIN:VCALENDAR
VERSION:2.0
PRODID:-//Goldgrube//myauktion.com//AT
CALSCALE:GREGORIAN
BEGIN:VEVENT
DTSTART:20260505T092400
DTEND:20260505T092430
LOCATION:Gewerbepark 13, 8562 Mooskirchen
DTSTAMP:20260421T202151
SUMMARY:MyAuktion: Ablauf Artikel Nr. 904165 hautubone Gel z naravnimi rastlinskimi izvlečki 100ml 2stk
URL;VALUE=URI:https://www.myauktion.com/versteigerung7654-position2443764-hautubone-gel-z-naravnimi-rastlinskimi-izvleki-100ml-2stk.php
DESCRIPTION:
UID:myauktion-7654-2443764
BEGIN:VALARM
ACTION:DISPLAY
DESCRIPTION:
TRIGGER:-PT10M
END:VALARM
END:VEVENT
END:VCALENDAR