BEGIN:VCALENDAR
VERSION:2.0
PRODID:-//Goldgrube//myauktion.com//AT
CALSCALE:GREGORIAN
BEGIN:VEVENT
DTSTART:20260505T092600
DTEND:20260505T092630
LOCATION:Gewerbepark 13, 8562 Mooskirchen
DTSTAMP:20260421T225059
SUMMARY:MyAuktion: Ablauf Artikel Nr. 904169 Syoss Renew 7 Tiefenspülung 250ml
URL;VALUE=URI:https://www.myauktion.com/versteigerung7654-position2443766-syoss-renew-7-tiefenspuelung-250ml.php
DESCRIPTION:
UID:myauktion-7654-2443766
BEGIN:VALARM
ACTION:DISPLAY
DESCRIPTION:
TRIGGER:-PT10M
END:VALARM
END:VEVENT
END:VCALENDAR