BEGIN:VCALENDAR
VERSION:2.0
PRODID:-//Goldgrube//myauktion.com//AT
CALSCALE:GREGORIAN
BEGIN:VEVENT
DTSTART:20260505T092700
DTEND:20260505T092730
LOCATION:Gewerbepark 13, 8562 Mooskirchen
DTSTAMP:20260421T202151
SUMMARY:MyAuktion: Ablauf Artikel Nr. 904171 Paul Mitchell Clean Beauty Hydrate Conditioner 250 ml
URL;VALUE=URI:https://www.myauktion.com/versteigerung7654-position2443767-paul-mitchell-clean-beauty-hydrate-conditioner-250-ml.php
DESCRIPTION:
UID:myauktion-7654-2443767
BEGIN:VALARM
ACTION:DISPLAY
DESCRIPTION:
TRIGGER:-PT10M
END:VALARM
END:VEVENT
END:VCALENDAR