BEGIN:VCALENDAR
VERSION:2.0
PRODID:-//Goldgrube//myauktion.com//AT
CALSCALE:GREGORIAN
BEGIN:VEVENT
DTSTART:20260505T092800
DTEND:20260505T092830
LOCATION:Gewerbepark 13, 8562 Mooskirchen
DTSTAMP:20260421T225104
SUMMARY:MyAuktion: Ablauf Artikel Nr. 904176 head&shoulders Aufbauende Pflege Dermamax Pro 145ml
URL;VALUE=URI:https://www.myauktion.com/versteigerung7654-position2443768-head-shoulders-aufbauende-pflege-dermamax-pro-145ml.php
DESCRIPTION:
UID:myauktion-7654-2443768
BEGIN:VALARM
ACTION:DISPLAY
DESCRIPTION:
TRIGGER:-PT10M
END:VALARM
END:VEVENT
END:VCALENDAR