BEGIN:VCALENDAR
VERSION:2.0
PRODID:-//Goldgrube//myauktion.com//AT
CALSCALE:GREGORIAN
BEGIN:VEVENT
DTSTART:20260505T092900
DTEND:20260505T092930
LOCATION:Gewerbepark 13, 8562 Mooskirchen
DTSTAMP:20260421T202152
SUMMARY:MyAuktion: Ablauf Artikel Nr. 904178 Narbensalbe 20ml
URL;VALUE=URI:https://www.myauktion.com/versteigerung7654-position2443769-narbensalbe-20ml.php
DESCRIPTION:
UID:myauktion-7654-2443769
BEGIN:VALARM
ACTION:DISPLAY
DESCRIPTION:
TRIGGER:-PT10M
END:VALARM
END:VEVENT
END:VCALENDAR