BEGIN:VCALENDAR
VERSION:2.0
PRODID:-//Goldgrube//myauktion.com//AT
CALSCALE:GREGORIAN
BEGIN:VEVENT
DTSTART:20260505T093000
DTEND:20260505T093030
LOCATION:Gewerbepark 13, 8562 Mooskirchen
DTSTAMP:20260421T202151
SUMMARY:MyAuktion: Ablauf Artikel Nr. 904179 Gesichtscreme 30 ml
URL;VALUE=URI:https://www.myauktion.com/versteigerung7654-position2443770-gesichtscreme-30-ml.php
DESCRIPTION:
UID:myauktion-7654-2443770
BEGIN:VALARM
ACTION:DISPLAY
DESCRIPTION:
TRIGGER:-PT10M
END:VALARM
END:VEVENT
END:VCALENDAR