BEGIN:VCALENDAR
VERSION:2.0
PRODID:-//Goldgrube//myauktion.com//AT
CALSCALE:GREGORIAN
BEGIN:VEVENT
DTSTART:20260505T093100
DTEND:20260505T093130
LOCATION:Gewerbepark 13, 8562 Mooskirchen
DTSTAMP:20260422T003432
SUMMARY:MyAuktion: Ablauf Artikel Nr. 904183 matrix SoColor Sync 10V
URL;VALUE=URI:https://www.myauktion.com/versteigerung7654-position2443771-matrix-socolor-sync-10v.php
DESCRIPTION:
UID:myauktion-7654-2443771
BEGIN:VALARM
ACTION:DISPLAY
DESCRIPTION:
TRIGGER:-PT10M
END:VALARM
END:VEVENT
END:VCALENDAR