BEGIN:VCALENDAR
VERSION:2.0
PRODID:-//Goldgrube//myauktion.com//AT
CALSCALE:GREGORIAN
BEGIN:VEVENT
DTSTART:20260505T093500
DTEND:20260505T093530
LOCATION:Gewerbepark 13, 8562 Mooskirchen
DTSTAMP:20260421T225107
SUMMARY:MyAuktion: Ablauf Artikel Nr. 904193 Biobelinda Yıkama Öncesi Sprey 235 ml
URL;VALUE=URI:https://www.myauktion.com/versteigerung7654-position2443775-biobelinda-ykama-ncesi-sprey-235-ml.php
DESCRIPTION:
UID:myauktion-7654-2443775
BEGIN:VALARM
ACTION:DISPLAY
DESCRIPTION:
TRIGGER:-PT10M
END:VALARM
END:VEVENT
END:VCALENDAR