BEGIN:VCALENDAR
VERSION:2.0
PRODID:-//Goldgrube//myauktion.com//AT
CALSCALE:GREGORIAN
BEGIN:VEVENT
DTSTART:20260505T093600
DTEND:20260505T093630
LOCATION:Gewerbepark 13, 8562 Mooskirchen
DTSTAMP:20260421T225113
SUMMARY:MyAuktion: Ablauf Artikel Nr. 904205 Schwarzkopf Silhouette Styling Lotion Syoss Keratin Hitzeschutz-Spray
URL;VALUE=URI:https://www.myauktion.com/versteigerung7654-position2443776-schwarzkopf-silhouette-styling-lotion-syoss-keratin-hitzeschutz-spray.php
DESCRIPTION:
UID:myauktion-7654-2443776
BEGIN:VALARM
ACTION:DISPLAY
DESCRIPTION:
TRIGGER:-PT10M
END:VALARM
END:VEVENT
END:VCALENDAR