BEGIN:VCALENDAR
VERSION:2.0
PRODID:-//Goldgrube//myauktion.com//AT
CALSCALE:GREGORIAN
BEGIN:VEVENT
DTSTART:20260505T093800
DTEND:20260505T093830
LOCATION:Gewerbepark 13, 8562 Mooskirchen
DTSTAMP:20260421T225101
SUMMARY:MyAuktion: Ablauf Artikel Nr. 904207 Nook Magic Argan Oil Secret Shampoo 250 ml
URL;VALUE=URI:https://www.myauktion.com/versteigerung7654-position2443778-nook-magic-argan-oil-secret-shampoo-250-ml.php
DESCRIPTION:
UID:myauktion-7654-2443778
BEGIN:VALARM
ACTION:DISPLAY
DESCRIPTION:
TRIGGER:-PT10M
END:VALARM
END:VEVENT
END:VCALENDAR