BEGIN:VCALENDAR
VERSION:2.0
PRODID:-//Goldgrube//myauktion.com//AT
CALSCALE:GREGORIAN
BEGIN:VEVENT
DTSTART:20260505T094000
DTEND:20260505T094030
LOCATION:Gewerbepark 13, 8562 Mooskirchen
DTSTAMP:20260421T225105
SUMMARY:MyAuktion: Ablauf Artikel Nr. 904209 BEAUTY PLAZA Repair Mask 75 ml
URL;VALUE=URI:https://www.myauktion.com/versteigerung7654-position2443780-beauty-plaza-repair-mask-75-ml.php
DESCRIPTION:
UID:myauktion-7654-2443780
BEGIN:VALARM
ACTION:DISPLAY
DESCRIPTION:
TRIGGER:-PT10M
END:VALARM
END:VEVENT
END:VCALENDAR