BEGIN:VCALENDAR
VERSION:2.0
PRODID:-//Goldgrube//myauktion.com//AT
CALSCALE:GREGORIAN
BEGIN:VEVENT
DTSTART:20260505T094500
DTEND:20260505T094530
LOCATION:Gewerbepark 13, 8562 Mooskirchen
DTSTAMP:20260421T225111
SUMMARY:MyAuktion: Ablauf Artikel Nr. 904231 Ultrasun Sonnencreme SPF 50 40ml
URL;VALUE=URI:https://www.myauktion.com/versteigerung7654-position2443785-ultrasun-sonnencreme-spf-50-40ml.php
DESCRIPTION:
UID:myauktion-7654-2443785
BEGIN:VALARM
ACTION:DISPLAY
DESCRIPTION:
TRIGGER:-PT10M
END:VALARM
END:VEVENT
END:VCALENDAR